BEGIN:VCALENDAR
VERSION:2.0
PRODID:-//Parents &amp; Alumni Relations | Kamehameha Schools Kapālama - ECPv5.10.0//NONSGML v1.0//EN
CALSCALE:GREGORIAN
METHOD:PUBLISH
X-WR-CALNAME:Parents &amp; Alumni Relations | Kamehameha Schools Kapālama
X-ORIGINAL-URL:https://apps.ksbe.edu/par
X-WR-CALDESC:Events for Parents &amp; Alumni Relations | Kamehameha Schools Kapālama
BEGIN:VTIMEZONE
TZID:Pacific/Honolulu
BEGIN:STANDARD
TZOFFSETFROM:-1000
TZOFFSETTO:-1000
TZNAME:HST
DTSTART:20160101T000000
END:STANDARD
END:VTIMEZONE
BEGIN:VEVENT
DTSTART;TZID=Pacific/Honolulu:20160528T100000
DTEND;TZID=Pacific/Honolulu:20160528T120000
DTSTAMP:20260425T153505
CREATED:20151204T013643Z
LAST-MODIFIED:20151204T013643Z
UID:5439-1464429600-1464436800@apps.ksbe.edu
SUMMARY:Gr. 12 Senior Tea
DESCRIPTION:Senior Tea\n10:00 a.m. – 12:00 p.m. \nKa‘iwakīloumoku
URL:https://apps.ksbe.edu/par/events/gr-12-senior-tea/
LOCATION:Kaiwakiloumoku\, United States
END:VEVENT
END:VCALENDAR