BEGIN:VCALENDAR
VERSION:2.0
PRODID:-//Parents &amp; Alumni Relations | Kamehameha Schools Kapālama - ECPv5.10.0//NONSGML v1.0//EN
CALSCALE:GREGORIAN
METHOD:PUBLISH
X-WR-CALNAME:Parents &amp; Alumni Relations | Kamehameha Schools Kapālama
X-ORIGINAL-URL:https://apps.ksbe.edu/par
X-WR-CALDESC:Events for Parents &amp; Alumni Relations | Kamehameha Schools Kapālama
BEGIN:VTIMEZONE
TZID:Pacific/Honolulu
BEGIN:STANDARD
TZOFFSETFROM:-1000
TZOFFSETTO:-1000
TZNAME:HST
DTSTART:20160101T000000
END:STANDARD
END:VTIMEZONE
BEGIN:VEVENT
DTSTART;TZID=Pacific/Honolulu:20160529T180000
DTEND;TZID=Pacific/Honolulu:20160529T183000
DTSTAMP:20260425T065941
CREATED:20151204T013639Z
LAST-MODIFIED:20151204T013639Z
UID:5388-1464544800-1464546600@apps.ksbe.edu
SUMMARY:Gr. 12 Senior Commencement
DESCRIPTION:Gr. 12 Senior Commencement\nNeal S. Blaisdell Center \n6:00 p.m.
URL:https://apps.ksbe.edu/par/events/gr-12-senior-commencement/
LOCATION:Neal S. Blaisdell Center\, United States
END:VEVENT
END:VCALENDAR