BEGIN:VCALENDAR
VERSION:2.0
PRODID:-//Parents &amp; Alumni Relations | Kamehameha Schools Kapālama - ECPv5.10.0//NONSGML v1.0//EN
CALSCALE:GREGORIAN
METHOD:PUBLISH
X-WR-CALNAME:Parents &amp; Alumni Relations | Kamehameha Schools Kapālama
X-ORIGINAL-URL:https://apps.ksbe.edu/par
X-WR-CALDESC:Events for Parents &amp; Alumni Relations | Kamehameha Schools Kapālama
BEGIN:VTIMEZONE
TZID:Pacific/Honolulu
BEGIN:STANDARD
TZOFFSETFROM:-1000
TZOFFSETTO:-1000
TZNAME:HST
DTSTART:20160101T000000
END:STANDARD
END:VTIMEZONE
BEGIN:VEVENT
DTSTART;VALUE=DATE:20160523
DTEND;VALUE=DATE:20160525
DTSTAMP:20260425T063711
CREATED:20151204T013644Z
LAST-MODIFIED:20151204T013644Z
UID:5475-1463961600-1464134399@apps.ksbe.edu
SUMMARY:Gr. 12 Uniform Collection
DESCRIPTION:Senior Class Uniform Collection\nPeriods 4-7 \n‘Akahi Student Center
URL:https://apps.ksbe.edu/par/events/gr-12-uniform-collection/
LOCATION:Akahi Student Center\, United States
END:VEVENT
BEGIN:VEVENT
DTSTART;VALUE=DATE:20160524
DTEND;VALUE=DATE:20160527
DTSTAMP:20260425T063711
CREATED:20151204T013643Z
LAST-MODIFIED:20160107T002711Z
UID:5440-1464048000-1464307199@apps.ksbe.edu
SUMMARY:KHS Final Exams
DESCRIPTION:KHS Final Exams
URL:https://apps.ksbe.edu/par/events/khs-final-exams-2/
END:VEVENT
END:VCALENDAR